BEGIN:VCALENDAR
VERSION:2.0
PRODID:-//eventon.com NONSGML v1.0//EN
BEGIN:VEVENT
UID:69eb6ddb31339
DTSTAMP:20260424T131923
DTSTART:20261126T210000Z
DTEND:20261126T230000Z
LOCATION:TEATRO PALAPARTENOPE VIA BARBAGALLO 115
SUMMARY:NWE WRESTLING LEGENDS TOUR
DESCRIPTION: Una notte di sfide epiche\,  rivalità leggendarie e momenti che resteranno nella storia. Per la prima volta in Europa Mil Muertes vs Vampiro. Match senza limiti! Dream match tra ex wwe champion MUSTAFA ALI e il grande talento europeo LEON CAGE (Occhi puntati su questo incontro!) SUBCULTURE (Mark Andrews e[..]
END:VEVENT
END:VCALENDAR