BEGIN:VCALENDAR
VERSION:2.0
PRODID:-//eventon.com NONSGML v1.0//EN
BEGIN:VEVENT
UID:69eb6ce9181df
DTSTAMP:20260424T131521
DTSTART:20270127T150000Z
DTEND:20270127T170000Z
LOCATION:TEATRO PALAPARTENOPE VIA BARBAGALLO 115
SUMMARY:MODALITA' TEATRO - LA SFIDA!
DESCRIPTION: ROBY\,  JENNY E LORENZIST tornano con MODALITA' TEATRO - LA SFIDA! Un nuovo tour che sarà ancora più sorprendente ed indimenticabile del primo! Lo spettacolo che unisce il mondo del gaming e quello del palcoscenico! I creator più seguiti del web – Roby\,  Jenny e Lorenzist – arrivano dal vivo per portare sul palco un format teatrale[..]
END:VEVENT
END:VCALENDAR