BEGIN:VCALENDAR
VERSION:2.0
PRODID:-//eventon.com NONSGML v1.0//EN
BEGIN:VEVENT
UID:69ea155b43f3c
DTSTAMP:20260423T124931
DTSTART:20270211T210000Z
DTEND:20270211T230000Z
LOCATION:CASA DELLA MUSICA 
SUMMARY:AFTERHOURS
DESCRIPTION: Gli Afterhours nel 2027 torneranno in tour per celebrare i 40 anni dall’uscita del loro primo 45 giri “My Bit Boy”  che nel 1987 che sancì l’esordio del gruppo e i 25 anni dell’album “Quello che non c’è”\,  tassello fondamentale della storia della musica italiana. Il tour porterà la band nelle principali città[..]
END:VEVENT
END:VCALENDAR