BEGIN:VCALENDAR
VERSION:2.0
PRODID:-//eventon.com NONSGML v1.0//EN
BEGIN:VEVENT
UID:69ea1572c7d65
DTSTAMP:20260423T124954
DTSTART:20261211T210000Z
DTEND:20261211T233000Z
LOCATION:TEATRO PALAPARTENOPE VIA BARBAGALLO 115
SUMMARY:FABIO CONCATO
DESCRIPTION: Altro di me\,  spettacolo e tour teatrale è il nuovo capitolo musicale della lunga storia artistica di Fabio Concato . Altro di me esprime un desiderio: scegliere\,  nel proprio catalogo di oltre 150 canzoni\,  brani non eseguiti da tempo\,  per proporli al pubblico condividendo sorpresa\,  ricordi\,  emozioni della riscoperta di queste atmosfere musicali[..]
END:VEVENT
END:VCALENDAR