BEGIN:VCALENDAR
VERSION:2.0
PRODID:-//eventon.com NONSGML v1.0//EN
BEGIN:VEVENT
UID:69ea1614787a4
DTSTAMP:20260423T125236
DTSTART:20261018T180000Z
DTEND:20261018T193000Z
LOCATION:TEATRO PALAPARTENOPE VIA BARBAGALLO 115
SUMMARY:LUCILLA SHOW
DESCRIPTION: Torna al Palapartenope\,  lo spettacolo più amato dai bambini in età prescolare: Lucilla Show!Lucilla\,  laureata in Scienze dell’Educazione\,  unisce canto\,  danza e pedagogia in uno show coinvolgente e rassicurante\,  pensato per parlare direttamente ai più piccoli con un linguaggio semplice\,  gioioso e autentico.Diventata celebre grazie al canale YouTube Alman Kids[..]
END:VEVENT
END:VCALENDAR