BEGIN:VCALENDAR
VERSION:2.0
PRODID:-//eventon.com NONSGML v1.0//EN
BEGIN:VEVENT
UID:69ea16c87ee4f
DTSTAMP:20260423T125536
DTSTART:20261112T210000Z
DTEND:20261112T230000Z
LOCATION:CASA DELLA MUSICA 
SUMMARY:Fabrizio Moro
DESCRIPTION: Dopo sette anni di pausa dai palchi\,  Fabrizio Moro torna live con il nuovo progetto “Non ho paura di niente”\,  un tour che nel 2026 toccherà le principali città italiane. Il tour 2026 di Fabrizio Moro segna un nuovo capitolo della carriera del cantautore\,  che promette concerti emozionanti\,  nuove sonorità[..]
END:VEVENT
END:VCALENDAR