BEGIN:VCALENDAR
VERSION:2.0
PRODID:-//eventon.com NONSGML v1.0//EN
BEGIN:VEVENT
UID:69ea1664811e5
DTSTAMP:20260423T125356
DTSTART:20260507T210000Z
DTEND:20260507T230000Z
LOCATION:CASA DELLA MUSICA 
SUMMARY:LEVANTE
DESCRIPTION: A distanza di due anni dal tour nel 2024 che\,  l'ha vista calcare i palcoscenici dei più importanti teatri italiani\,  Levante è pronta a tornare finalmente dal vivo con un tour completamente rinnovato. Si intitola "Dell'amore - Club Tour 2026" il nuovo progetto live della cantautrice siciliana\,  che segna il[..]
END:VEVENT
END:VCALENDAR