BEGIN:VCALENDAR
VERSION:2.0
PRODID:-//eventon.com NONSGML v1.0//EN
BEGIN:VEVENT
UID:69ea16c26da58
DTSTAMP:20260423T125530
DTSTART:20260424T160000Z
DTEND:20260424T180000Z
LOCATION:TEATRO PALAPARTENOPE VIA BARBAGALLO 115
SUMMARY:LA MUSICA MAGICA
DESCRIPTION: Un concerto unico\,  con fantastiche illusioni magiche e un ospite d’eccezione: la Magic Film Orchestra & Choir Vivi il meglio delle colonne sonore candidate all’Oscar tratte dai film di Harry.Goditi le musiche del cinque volte vincitore dell’Oscar John Williams\,  insieme a quelle di Patrick Doyle\,  Nicholas Hooper e del premio[..]
END:VEVENT
END:VCALENDAR