BEGIN:VCALENDAR
VERSION:2.0
PRODID:-//eventon.com NONSGML v1.0//EN
BEGIN:VEVENT
UID:69ea171805e90
DTSTAMP:20260423T125656
DTSTART:20260424T200000Z
DTEND:20260424T220000Z
LOCATION:TEATRO PALAPARTENOPE VIA BARBAGALLO 115
SUMMARY:La Musica
DESCRIPTION: Vivi le più grandi colonne sonore del cinema: Top Gun\,  James Bond\,  Pirati dei Caraibi\,  Il Re Leone\,  Il Gladiatore\,  Il Cavaliere Oscuro\,  Inception\,  Interstellar e molte altre produzioni leggendarie – in un concerto mozzafiato con la Hollywood Film Orchestra & Choir\,  solisti stellari e scene dei film! Inclusa la[..]
END:VEVENT
END:VCALENDAR