BEGIN:VCALENDAR
VERSION:2.0
PRODID:-//eventon.com NONSGML v1.0//EN
BEGIN:VEVENT
UID:69ea16fc78be6
DTSTAMP:20260423T125628
DTSTART:20261028T210000Z
DTEND:20261101T230000Z
LOCATION:TEATRO PALAPARTENOPE VIA BARBAGALLO 115
SUMMARY:NOTRE DAME DE PARIS
DESCRIPTION: A quattro anni di distanza dallo show dedicato al ventennale del suo debutto in italia \,  NOTRE DAME DE PARIS \,  l'opera popolare moderna più famosa al mondo \,  dal 28 ottobre 2026 tornerà a Napoli al Teatro Palapartenope .
END:VEVENT
END:VCALENDAR