BEGIN:VCALENDAR
VERSION:2.0
PRODID:-//eventon.com NONSGML v1.0//EN
BEGIN:VEVENT
UID:69e4cc61cd15a
DTSTAMP:20260419T123649
DTSTART:20200315T180000Z
DTEND:20200316T000000Z
LOCATION:CASA DELLA MUSICA 
SUMMARY:ENNIO MARCHETTO CARTA CANTA
DESCRIPTION: Si comunica che lo spettacolo CARTA CANTA  in programma il 15 Marzo presso Casa della Musica Federico I è stato annullato\,  sarà possibile chiedere il rimborso dei biglietti entro e non oltre il 15 Aprile 2020. Se l’acquisto è stato effettuato in un Punto Vendita TicketOne o Go2 è possibile[..]
END:VEVENT
END:VCALENDAR